BEGIN:VCALENDAR
PRODID:-//github.com/rianjs/ical.net//NONSGML ical.net 4.0//EN
VERSION:2.0
BEGIN:VTIMEZONE
TZID:Eastern Standard Time
X-LIC-LOCATION:America/New_York
BEGIN:STANDARD
DTSTART:20241103T020000
RRULE:FREQ=YEARLY;BYDAY=1SU;BYMONTH=11
TZNAME:EST
TZOFFSETFROM:-0400
TZOFFSETTO:-0500
END:STANDARD
BEGIN:DAYLIGHT
DTSTART:20250309T020000
RRULE:FREQ=YEARLY;BYDAY=2SU;BYMONTH=3
TZNAME:EDT
TZOFFSETFROM:-0500
TZOFFSETTO:-0400
END:DAYLIGHT
END:VTIMEZONE
BEGIN:VEVENT
DESCRIPTION:ESOL Instructor Training
DTEND;TZID=Eastern Standard Time:20260501T130000
DTSTAMP:20260421T175327Z
DTSTART;TZID=Eastern Standard Time:20260501T090000
LOCATION:South Florida State College 600 West College Drive Avon Park\, FL
  33825-9356 United States
ORGANIZER;CN=ACE of Florida Foundation;SENT-BY="mailto:ace@aceofflorida.or
 g":
SEQUENCE:0
SUMMARY:ACE of Florida: Teaching with Purpose: Aligning Standards and Enga
 gement for Student Success - SFSC
UID:57f59d39-f9c4-4923-b143-cf57ef7e25d0
END:VEVENT
END:VCALENDAR
