BEGIN:VCALENDAR
PRODID:-//github.com/rianjs/ical.net//NONSGML ical.net 4.0//EN
VERSION:2.0
BEGIN:VTIMEZONE
TZID:Central Standard Time
X-LIC-LOCATION:America/Chicago
BEGIN:STANDARD
DTSTART:20241103T020000
RRULE:FREQ=YEARLY;BYDAY=1SU;BYMONTH=11
TZNAME:CST
TZOFFSETFROM:-0500
TZOFFSETTO:-0600
END:STANDARD
BEGIN:DAYLIGHT
DTSTART:20250309T020000
RRULE:FREQ=YEARLY;BYDAY=2SU;BYMONTH=3
TZNAME:CDT
TZOFFSETFROM:-0600
TZOFFSETTO:-0500
END:DAYLIGHT
END:VTIMEZONE
BEGIN:VEVENT
DTEND;TZID=Central Standard Time:20260513T170000
DTSTAMP:20260421T231245Z
DTSTART;TZID=Central Standard Time:20260513T140000
LOCATION:Santa Rosa Adult School 5334 Berryhill Road Milton\, FL 32570 Uni
 ted States
ORGANIZER;CN=ACE of Florida Foundation;SENT-BY="mailto:ace@aceofflorida.or
 g":
SEQUENCE:0
SUMMARY:ACE of Florida: Smarter Planning\, Stronger Teaching: AI in Adult 
 Education
UID:f0df0ec4-aeef-46cb-9170-ef32abe91794
END:VEVENT
END:VCALENDAR
